BEGIN:VCALENDAR
VERSION:2.0
PRODID:-//Sabre//Sabre VObject 4.5.8//EN
CALSCALE:GREGORIAN
BEGIN:VEVENT
UID:criticalmass-one-freudenstadt-1505147400
DTSTAMP:20260423T024734Z
SUMMARY:Critical Mass Freudenstadt 11.09.2017
DTSTART;TZID=Europe/Berlin:20170911T183000
DTEND;TZID=Europe/Berlin:20170911T203000
LOCATION:Marktplatz
GEO:48.464518;8.411765
URL;VALUE=URI:https://criticalmass.in/freudenstadt/2017-09-11
END:VEVENT
END:VCALENDAR
