BEGIN:VCALENDAR
VERSION:2.0
PRODID:-//Sabre//Sabre VObject 4.5.8//EN
CALSCALE:GREGORIAN
BEGIN:VEVENT
UID:criticalmass-one-freudenstadt-1499704200
DTSTAMP:20260422T225822Z
SUMMARY:Critical Mass Freudenstadt 10.07.2017
DTSTART;TZID=Europe/Berlin:20170710T183000
DTEND;TZID=Europe/Berlin:20170710T203000
LOCATION:Marktplatz
GEO:48.464518;8.411765
URL;VALUE=URI:https://criticalmass.in/freudenstadt/2017-07-10
END:VEVENT
END:VCALENDAR
