BEGIN:VCALENDAR
VERSION:2.0
PRODID:-//Sabre//Sabre VObject 4.5.8//EN
CALSCALE:GREGORIAN
BEGIN:VEVENT
UID:criticalmass-one-freudenstadt-1491841800
DTSTAMP:20260422T162027Z
SUMMARY:Critical Mass Freudenstadt 10.04.2017
DTSTART;TZID=Europe/Berlin:20170410T183000
DTEND;TZID=Europe/Berlin:20170410T203000
LOCATION:Marktplatz
GEO:48.464518;8.411765
URL;VALUE=URI:https://criticalmass.in/freudenstadt/2017-04-10
END:VEVENT
END:VCALENDAR
