BEGIN:VCALENDAR
VERSION:2.0
PRODID:-//Sabre//Sabre VObject 4.5.8//EN
CALSCALE:GREGORIAN
BEGIN:VEVENT
UID:criticalmass-one-freudenstadt-1487007000
DTSTAMP:20260422T060504Z
SUMMARY:Critical Mass Freudenstadt 13.02.2017
DTSTART;TZID=Europe/Berlin:20170213T183000
DTEND;TZID=Europe/Berlin:20170213T203000
LOCATION:Marktplatz
GEO:48.464518;8.411765
URL;VALUE=URI:https://criticalmass.in/freudenstadt/2017-02-13
END:VEVENT
END:VCALENDAR
