BEGIN:VCALENDAR
VERSION:2.0
PRODID:-//Sabre//Sabre VObject 4.5.8//EN
CALSCALE:GREGORIAN
BEGIN:VEVENT
UID:criticalmass-one-freudenstadt-1462811400
DTSTAMP:20260423T185823Z
SUMMARY:Critical Mass Freudenstadt 09.05.2016
DTSTART;TZID=Europe/Berlin:20160509T183000
DTEND;TZID=Europe/Berlin:20160509T203000
LOCATION:Marktplatz
GEO:48.464518;8.411765
URL;VALUE=URI:https://criticalmass.in/freudenstadt/2016-05-09
END:VEVENT
END:VCALENDAR
