BEGIN:VCALENDAR
VERSION:2.0
PRODID:-//Sabre//Sabre VObject 4.5.8//EN
CALSCALE:GREGORIAN
BEGIN:VEVENT
UID:criticalmass-one-freudenstadt-1433781000
DTSTAMP:20260423T024800Z
SUMMARY:Critical Mass Freudenstadt 08.06.2015
DTSTART;TZID=Europe/Berlin:20150608T183000
DTEND;TZID=Europe/Berlin:20150608T203000
LOCATION:Marktplatz
GEO:48.464518;8.411765
URL;VALUE=URI:https://criticalmass.in/freudenstadt/2015-06-08
END:VEVENT
END:VCALENDAR
