BEGIN:VCALENDAR
VERSION:2.0
PRODID:-//Sabre//Sabre VObject 4.5.8//EN
CALSCALE:GREGORIAN
BEGIN:VEVENT
UID:criticalmass-one-freudenstadt-1415640600
DTSTAMP:20260423T154612Z
SUMMARY:Critical Mass Freudenstadt 10.11.2014
DTSTART;TZID=Europe/Berlin:20141110T183000
DTEND;TZID=Europe/Berlin:20141110T203000
LOCATION:Marktplatz
GEO:48.464518;8.411765
URL;VALUE=URI:https://criticalmass.in/freudenstadt/2014-11-10
END:VEVENT
END:VCALENDAR
