BEGIN:VCALENDAR
VERSION:2.0
PRODID:-//Sabre//Sabre VObject 4.5.8//EN
CALSCALE:GREGORIAN
BEGIN:VEVENT
UID:criticalmass-one-freiburg-1664110800
DTSTAMP:20260425T111247Z
SUMMARY:Kidical Mass Freiburg 25.09.2022
DTSTART;TZID=Europe/Berlin:20220925T150000
DTEND;TZID=Europe/Berlin:20220925T170000
LOCATION:Bürgerhaus im Seepark
URL;VALUE=URI:https://criticalmass.in/freiburg/kidical-mass-freiburg-septem
 ber-2022
END:VEVENT
END:VCALENDAR
