BEGIN:VCALENDAR
VERSION:2.0
PRODID:-//Sabre//Sabre VObject 4.5.8//EN
CALSCALE:GREGORIAN
BEGIN:VEVENT
UID:criticalmass-one-freiburg-1600516800
DTSTAMP:20260425T110143Z
SUMMARY:Kidical Mass Freiburg
DTSTART;TZID=Europe/Berlin:20200919T140000
DTEND;TZID=Europe/Berlin:20200919T160000
LOCATION:Europaplatz
GEO:47.997733;7.852650
URL;VALUE=URI:https://criticalmass.in/freiburg/kidical-mass-freiburg-septem
 ber-2020
END:VEVENT
END:VCALENDAR
