BEGIN:VCALENDAR
VERSION:2.0
PRODID:-//Sabre//Sabre VObject 4.5.8//EN
CALSCALE:GREGORIAN
BEGIN:VEVENT
UID:criticalmass-one-freiburg-1743181200
DTSTAMP:20260424T122638Z
SUMMARY:Critical Mass Freiburg 28.03.2025
DTSTART;TZID=Europe/Berlin:20250328T180000
DTEND;TZID=Europe/Berlin:20250328T200000
GEO:47.994950;7.845699
URL;VALUE=URI:https://criticalmass.in/freiburg/2025-03-28
END:VEVENT
END:VCALENDAR
