BEGIN:VCALENDAR
VERSION:2.0
PRODID:-//Sabre//Sabre VObject 4.5.8//EN
CALSCALE:GREGORIAN
BEGIN:VEVENT
UID:criticalmass-one-freiburg-1672419600
DTSTAMP:20260424T180938Z
SUMMARY:Critical Mass Freiburg 30.12.2022
DTSTART;TZID=Europe/Berlin:20221230T180000
DTEND;TZID=Europe/Berlin:20221230T200000
GEO:47.994950;7.845699
URL;VALUE=URI:https://criticalmass.in/freiburg/2022-12-30
END:VEVENT
END:VCALENDAR
