BEGIN:VCALENDAR
VERSION:2.0
PRODID:-//Sabre//Sabre VObject 4.5.8//EN
CALSCALE:GREGORIAN
BEGIN:VEVENT
UID:criticalmass-one-freiburg-1601049600
DTSTAMP:20260424T065121Z
SUMMARY:Critical Mass Freiburg 25.09.2020
DTSTART;TZID=Europe/Berlin:20200925T180000
DTEND;TZID=Europe/Berlin:20200925T200000
GEO:47.994950;7.845699
URL;VALUE=URI:https://criticalmass.in/freiburg/2020-09-25
END:VEVENT
END:VCALENDAR
