BEGIN:VCALENDAR
VERSION:2.0
PRODID:-//Sabre//Sabre VObject 4.5.8//EN
CALSCALE:GREGORIAN
BEGIN:VEVENT
UID:criticalmass-one-freiburg-1587744000
DTSTAMP:20260423T203607Z
SUMMARY:Critical Mass Freiburg 24.04.2020
DTSTART;TZID=Europe/Berlin:20200424T180000
DTEND;TZID=Europe/Berlin:20200424T200000
GEO:47.994950;7.845699
URL;VALUE=URI:https://criticalmass.in/freiburg/2020-04-24
END:VEVENT
END:VCALENDAR
