BEGIN:VCALENDAR
VERSION:2.0
PRODID:-//Sabre//Sabre VObject 4.5.8//EN
CALSCALE:GREGORIAN
BEGIN:VEVENT
UID:criticalmass-one-freiburg-1585328400
DTSTAMP:20260423T060146Z
SUMMARY:Critical Mass Freiburg 27.03.2020
DTSTART;TZID=Europe/Berlin:20200327T180000
DTEND;TZID=Europe/Berlin:20200327T200000
GEO:47.994950;7.845699
URL;VALUE=URI:https://criticalmass.in/freiburg/2020-03-27
END:VEVENT
END:VCALENDAR
