BEGIN:VCALENDAR
VERSION:2.0
PRODID:-//Sabre//Sabre VObject 4.5.8//EN
CALSCALE:GREGORIAN
BEGIN:VEVENT
UID:criticalmass-one-freiburg-1580490000
DTSTAMP:20260425T233823Z
SUMMARY:Critical Mass Freiburg 31.01.2020
DTSTART;TZID=Europe/Berlin:20200131T180000
DTEND;TZID=Europe/Berlin:20200131T200000
GEO:47.994950;7.845699
URL;VALUE=URI:https://criticalmass.in/freiburg/2020-01-31
END:VEVENT
END:VCALENDAR
