BEGIN:VCALENDAR
VERSION:2.0
PRODID:-//Sabre//Sabre VObject 4.5.8//EN
CALSCALE:GREGORIAN
BEGIN:VEVENT
UID:criticalmass-one-freiburg-1572019200
DTSTAMP:20260425T221326Z
SUMMARY:Critical Mass Freiburg 25.10.2019
DTSTART;TZID=Europe/Berlin:20191025T180000
DTEND;TZID=Europe/Berlin:20191025T200000
GEO:47.994950;7.845699
URL;VALUE=URI:https://criticalmass.in/freiburg/2019-10-25
END:VEVENT
END:VCALENDAR
