BEGIN:VCALENDAR
VERSION:2.0
PRODID:-//Sabre//Sabre VObject 4.5.8//EN
CALSCALE:GREGORIAN
BEGIN:VEVENT
UID:criticalmass-one-freiburg-1559318400
DTSTAMP:20260425T231109Z
SUMMARY:Critical Mass Freiburg 31.05.2019
DTSTART;TZID=Europe/Berlin:20190531T180000
DTEND;TZID=Europe/Berlin:20190531T200000
GEO:47.994950;7.845699
URL;VALUE=URI:https://criticalmass.in/freiburg/2019-05-31
END:VEVENT
END:VCALENDAR
