BEGIN:VCALENDAR
VERSION:2.0
PRODID:-//Sabre//Sabre VObject 4.5.8//EN
CALSCALE:GREGORIAN
BEGIN:VEVENT
UID:criticalmass-one-freiburg-1548435600
DTSTAMP:20260424T000745Z
SUMMARY:Critical Mass Freiburg 25.01.2019
DTSTART;TZID=Europe/Berlin:20190125T180000
DTEND;TZID=Europe/Berlin:20190125T200000
GEO:47.994950;7.845699
URL;VALUE=URI:https://criticalmass.in/freiburg/2019-01-25
END:VEVENT
END:VCALENDAR
