BEGIN:VCALENDAR
VERSION:2.0
PRODID:-//Sabre//Sabre VObject 4.5.8//EN
CALSCALE:GREGORIAN
BEGIN:VEVENT
UID:criticalmass-one-freiburg-1540569600
DTSTAMP:20260424T121521Z
SUMMARY:Critical Mass Freiburg 26.10.2018
DTSTART;TZID=Europe/Berlin:20181026T180000
DTEND;TZID=Europe/Berlin:20181026T200000
GEO:47.994950;7.845699
URL;VALUE=URI:https://criticalmass.in/freiburg/2018-10-26
END:VEVENT
END:VCALENDAR
