BEGIN:VCALENDAR
VERSION:2.0
PRODID:-//Sabre//Sabre VObject 4.5.8//EN
CALSCALE:GREGORIAN
BEGIN:VEVENT
UID:criticalmass-one-freiburg-1501257600
DTSTAMP:20260424T121425Z
SUMMARY:Critical Mass Freiburg 28.07.2017
DTSTART;TZID=Europe/Berlin:20170728T180000
DTEND;TZID=Europe/Berlin:20170728T200000
URL;VALUE=URI:https://criticalmass.in/freiburg/2017-07-28
END:VEVENT
END:VCALENDAR
