BEGIN:VCALENDAR
VERSION:2.0
PRODID:-//Sabre//Sabre VObject 4.5.8//EN
CALSCALE:GREGORIAN
BEGIN:VEVENT
UID:criticalmass-one-freiburg-1477670400
DTSTAMP:20260424T052208Z
SUMMARY:Critical Mass Freiburg 28.10.2016
DTSTART;TZID=Europe/Berlin:20161028T180000
DTEND;TZID=Europe/Berlin:20161028T200000
URL;VALUE=URI:https://criticalmass.in/freiburg/2016-10-28
END:VEVENT
END:VCALENDAR
