BEGIN:VCALENDAR
VERSION:2.0
PRODID:-//Sabre//Sabre VObject 4.5.8//EN
CALSCALE:GREGORIAN
BEGIN:VEVENT
UID:criticalmass-one-freiburg-1417194000
DTSTAMP:20260425T001936Z
SUMMARY:Critical Mass Freiburg 28.11.2014
DTSTART;TZID=Europe/Berlin:20141128T180000
DTEND;TZID=Europe/Berlin:20141128T200000
LOCATION:Freiburger Stadttheater
GEO:47.994950;7.845699
URL;VALUE=URI:https://criticalmass.in/freiburg/2014-11-28
END:VEVENT
END:VCALENDAR
