BEGIN:VCALENDAR
VERSION:2.0
PRODID:-//Sabre//Sabre VObject 4.5.8//EN
CALSCALE:GREGORIAN
BEGIN:VEVENT
UID:criticalmass-one-freiburg-1393606800
DTSTAMP:20260424T105751Z
SUMMARY:Critical Mass Freiburg 28.02.2014
DTSTART;TZID=Europe/Berlin:20140228T180000
DTEND;TZID=Europe/Berlin:20140228T200000
LOCATION:Freiburger Stadttheater
GEO:47.994950;7.845699
URL;VALUE=URI:https://criticalmass.in/freiburg/2014-02-28
END:VEVENT
END:VCALENDAR
