BEGIN:VCALENDAR
VERSION:2.0
PRODID:-//Sabre//Sabre VObject 4.5.8//EN
CALSCALE:GREGORIAN
BEGIN:VEVENT
UID:criticalmass-one-freiburg-1391187600
DTSTAMP:20260423T154331Z
SUMMARY:Critical Mass Freiburg 31.01.2014
DTSTART;TZID=Europe/Berlin:20140131T180000
DTEND;TZID=Europe/Berlin:20140131T200000
LOCATION:Freiburger Stadttheater
GEO:47.994950;7.845699
URL;VALUE=URI:https://criticalmass.in/freiburg/2014-01-31
END:VEVENT
END:VCALENDAR
