BEGIN:VCALENDAR
VERSION:2.0
PRODID:-//Sabre//Sabre VObject 4.5.8//EN
CALSCALE:GREGORIAN
BEGIN:VEVENT
UID:criticalmass-one-frechen-1727010000
DTSTAMP:20260424T192713Z
SUMMARY:Kidical Mass Frechen 22.09.2024
DTSTART;TZID=Europe/Berlin:20240922T150000
DTEND;TZID=Europe/Berlin:20240922T170000
LOCATION:Frechen Johann-Schmitz-Platz (vor der Stadtbücherei)
GEO:50.908033;6.809435
URL;VALUE=URI:https://criticalmass.in/frechen/kidical-mass-frechen-septembe
 r-2024
END:VEVENT
END:VCALENDAR
