BEGIN:VCALENDAR
VERSION:2.0
PRODID:-//Sabre//Sabre VObject 4.5.8//EN
CALSCALE:GREGORIAN
BEGIN:VEVENT
UID:criticalmass-one-frechen-1664110800
DTSTAMP:20260424T220620Z
SUMMARY:Kidical Mass Frechen 25.09.2022
DTSTART;TZID=Europe/Berlin:20220925T150000
DTEND;TZID=Europe/Berlin:20220925T170000
LOCATION:Johann-Schmitz-Platz
GEO:50.908032;6.808374
URL;VALUE=URI:https://criticalmass.in/frechen/kidical-mass-frechen-septembe
 r-2022
END:VEVENT
END:VCALENDAR
