BEGIN:VCALENDAR
VERSION:2.0
PRODID:-//Sabre//Sabre VObject 4.5.8//EN
CALSCALE:GREGORIAN
BEGIN:VEVENT
UID:criticalmass-one-frankfurt-1781283600
DTSTAMP:20260423T113007Z
SUMMARY:Critical Mass Frankfurt 12.06.2026
DTSTART;TZID=Europe/Berlin:20260612T190000
DTEND;TZID=Europe/Berlin:20260612T210000
LOCATION:Vor der Alten Oper
GEO:50.115635;8.671533
URL;VALUE=URI:https://criticalmass.in/frankfurt/2026-06-12
END:VEVENT
END:VCALENDAR
