BEGIN:VCALENDAR
VERSION:2.0
PRODID:-//Sabre//Sabre VObject 4.5.8//EN
CALSCALE:GREGORIAN
BEGIN:VEVENT
UID:criticalmass-one-frankfurt-1778259600
DTSTAMP:20260420T023951Z
SUMMARY:Critical Mass Frankfurt 08.05.2026
DTSTART;TZID=Europe/Berlin:20260508T190000
DTEND;TZID=Europe/Berlin:20260508T210000
LOCATION:Vor der Alten Oper
GEO:50.115635;8.671533
URL;VALUE=URI:https://criticalmass.in/frankfurt/2026-05-08
END:VEVENT
END:VCALENDAR
