BEGIN:VCALENDAR
VERSION:2.0
PRODID:-//Sabre//Sabre VObject 4.5.8//EN
CALSCALE:GREGORIAN
BEGIN:VEVENT
UID:criticalmass-one-frankfurt-1538913600
DTSTAMP:20260424T105916Z
SUMMARY:Critical Mass Frankfurt 07.10.2018
DESCRIPTION:Bei trockenem Wetter
DTSTART;TZID=Europe/Berlin:20181007T140000
DTEND;TZID=Europe/Berlin:20181007T160000
LOCATION:Alten Oper
GEO:50.115467;8.671635
URL;VALUE=URI:https://criticalmass.in/frankfurt/2018-10-07
END:VEVENT
END:VCALENDAR
