BEGIN:VCALENDAR
VERSION:2.0
PRODID:-//Sabre//Sabre VObject 4.5.8//EN
CALSCALE:GREGORIAN
BEGIN:VEVENT
UID:criticalmass-one-frankfurt-oder-1753462800
DTSTAMP:20260423T064515Z
SUMMARY:Critical Mass
DESCRIPTION:Es geht darum\, als kritische Masse ca. eine Stunde jeden letzt
 en Freitag im Monat mit einer kleinen Fahrradtour wahrgenommen zu werden.\
 nDazu haben wir unser kleines Soundsystem aufs Fahrrad geschnallt und fahr
 en in einer nicht festgelegten Route lautstark durch die City. Also wenn d
 u was verändern möchtest\, schließe dich uns an und werde Teil der Crit
 ical Mass.
DTSTART;TZID=Europe/Berlin:20250725T190000
DTEND;TZID=Europe/Berlin:20250725T210000
LOCATION:Bahnhofsplatz
GEO:52.341227;14.549452
URL;VALUE=URI:https://criticalmass.in/frankfurt-oder/2025-07-25
END:VEVENT
END:VCALENDAR
