BEGIN:VCALENDAR
VERSION:2.0
PRODID:-//Sabre//Sabre VObject 4.5.8//EN
CALSCALE:GREGORIAN
BEGIN:VEVENT
UID:criticalmass-one-fellbach-1726923600
DTSTAMP:20260423T065107Z
SUMMARY:Kidical Mass Fellbach 21.09.2024
DESCRIPTION:Treffpunkt ab 14:30.\nMit bunten Aktionen: Fahrradparkour\, Str
 aßenmalkreide\, ...\nWir fahren ab 15:00 Uhr im geschlossen Verbund ca. 8
  Km im familienfreundlichen Tempo\, quer durch die Stadt entlang von Schul
 wegen und machen kurze Zwischenstopps an Schulen.\nGemütliches Ausklingen
  am Ziel :-)
DTSTART;TZID=Europe/Berlin:20240921T150000
DTEND;TZID=Europe/Berlin:20240921T170000
LOCATION:Fellbach Guntram-Palm-Platz vor der Schwabenlandhalle 
GEO:48.808101;9.273358
URL;VALUE=URI:https://criticalmass.in/fellbach/kidical-mass-fellbach-septem
 ber-2024
END:VEVENT
END:VCALENDAR
