BEGIN:VCALENDAR
VERSION:2.0
PRODID:-//Sabre//Sabre VObject 4.5.8//EN
CALSCALE:GREGORIAN
BEGIN:VEVENT
UID:criticalmass-one-fellbach-1760792400
DTSTAMP:20260424T182826Z
SUMMARY:Kidical Mass Fellbach 18.10.2025
DESCRIPTION:Treffpunkt ab 14.30 Uhr mit Aktionen: Parkour für Kinder\, Pla
 kate malen\, ... Abfahrt 15.00 Uhr\, Schwabenlandhalle am Guntram-Palm-Pla
 tz.\nDie Route geben wir rechtzeitig bekannt.\nWir fahren langsam und gem
 ütlich\, mit den Rädern auf den Straßen durch Fellbach und die Polizei 
 wird uns sicher begleiten.\nMacht eure Wünsche für ein fahrradfreundlich
 es Fellbach in vielen\, bunten Plakaten sichtbar.
DTSTART;TZID=Europe/Berlin:20251018T150000
DTEND;TZID=Europe/Berlin:20251018T170000
LOCATION:Fellbach Guntram-Palm-Platz vor der Schwabenlandhalle
GEO:48.808101;9.273358
URL;VALUE=URI:https://criticalmass.in/fellbach/kidical-mass-fellbach-oktobe
 r-2025
END:VEVENT
END:VCALENDAR
