BEGIN:VCALENDAR
VERSION:2.0
PRODID:-//Sabre//Sabre VObject 4.5.8//EN
CALSCALE:GREGORIAN
BEGIN:VEVENT
UID:criticalmass-one-fellbach-1774692000
DTSTAMP:20260423T143108Z
SUMMARY:Critical Mass Määärz 2026
DESCRIPTION:Zeigt her\, eure Räder!
DTSTART;TZID=Europe/Berlin:20260328T110000
DTEND;TZID=Europe/Berlin:20260328T130000
LOCATION:Stuttgarter Str. 12\, 70736 Fellbach (Fahrrad Reparaturstation)
GEO:48.818156;9.278085
URL;VALUE=URI:https://criticalmass.in/fellbach/2026-03-28
END:VEVENT
END:VCALENDAR
