BEGIN:VCALENDAR
VERSION:2.0
PRODID:-//Sabre//Sabre VObject 4.5.8//EN
CALSCALE:GREGORIAN
BEGIN:VEVENT
UID:criticalmass-one-falkensee-1631955600
DTSTAMP:20260420T230738Z
SUMMARY:Kidical Mass Falkensee 18.09.2021
DTSTART;TZID=Europe/Berlin:20210918T110000
DTEND;TZID=Europe/Berlin:20210918T130000
LOCATION:vor der Alten Stadthalle
URL;VALUE=URI:https://criticalmass.in/falkensee/kidical-mass-falkensee-sept
 ember-2021
END:VEVENT
END:VCALENDAR
