BEGIN:VCALENDAR
VERSION:2.0
PRODID:-//Sabre//Sabre VObject 4.5.8//EN
CALSCALE:GREGORIAN
BEGIN:VEVENT
UID:criticalmass-one-falkensee-1714896000
DTSTAMP:20260421T082122Z
SUMMARY:Kidical Mass Falkensee 05.05.2024
DTSTART;TZID=Europe/Berlin:20240505T100000
DTEND;TZID=Europe/Berlin:20240505T120000
LOCATION:Falkensee Am Gutspark 1
GEO:52.562720;13.094223
URL;VALUE=URI:https://criticalmass.in/falkensee/kidical-mass-falkensee-mai-
 2024
END:VEVENT
END:VCALENDAR
