BEGIN:VCALENDAR
VERSION:2.0
PRODID:-//Sabre//Sabre VObject 4.5.8//EN
CALSCALE:GREGORIAN
BEGIN:VEVENT
UID:criticalmass-one-falkensee-1653210000
DTSTAMP:20260422T222533Z
SUMMARY:Kidical Mass Falkensee 22.05.2022
DTSTART;TZID=Europe/Berlin:20220522T110000
DTEND;TZID=Europe/Berlin:20220522T130000
LOCATION:Alte Stadthalle
GEO:52.562369;13.094459
URL;VALUE=URI:https://criticalmass.in/falkensee/kidical-mass-falkensee-mai-
 2022
END:VEVENT
END:VCALENDAR
