BEGIN:VCALENDAR
VERSION:2.0
PRODID:-//Sabre//Sabre VObject 4.5.8//EN
CALSCALE:GREGORIAN
BEGIN:VEVENT
UID:criticalmass-one-falkensee-1584887400
DTSTAMP:20260421T032903Z
SUMMARY:Kidical Mass Falkensee
DESCRIPTION:KIDICAL MASS Falkensee – KINDER AUF DAS RAD\n\nUnter dem Mott
 o „Kinder auf das Rad“ setzt sich die Kidical Mass Falkensee für eine
  kinderfreundliche Verkehrspolitik ein. Weil Radfahren Spaß macht und sic
 h auch Kinder und Jugendliche selbstständig und sicher in Falkensee beweg
 en können sollen. Findet ihr auch? Dann unterstützt uns die Dinge ins Ro
 llen zu bringen – in Richtung einer kinderfreundlichen Stadt und damit a
 uch zu mehr Freiräumen und Lebensqualität in Falkensee.\n\n\nWas ist die
  Kidical Mass Falkensee?\n\nWir erobern uns die Straßen und fahren eine l
 ockere Runde mit dem Fahrrad durch Falkensee – mit und als Kinder und Ju
 gendliche jeden Alters. Das Tempo und die Strecke sind bereits für die Kl
 einsten geeignet. Eltern und Großeltern dürfen und sollen mitgebracht we
 rden.\n\nDie Tour wird als Demonstration bei der Polizei angemeldet. Diese
  sichert die Wege und begleitet die Veranstaltung.\n\n\nWarum?\n\nWeil Rad
 fahren Spaß macht und sich auch Kinder und Jugendliche selbstständig und
  sicher in Falkensee bewegen können sollen.\n\nWir wollen zeigen\, dass e
 s viele Familien und Kinder gibt\, die sich mehr Freiräume und vor allem 
 sichere Fahrradwege wünschen.\n\nWir finden\, dass Kinder ein Recht auf P
 latz zum Spielen und gute Luft zum Atmen haben. Und wir finden: Mobilität
  ist ein Menschenrecht\, auch für Kinder und Jugendliche\n\n\nWann und Wo
 ?\n\nDer erste Termin steht!\n22. März 2020\nTreffpunkt: vor der alten St
 adthalle\nUhrzeit: 14:30 Uhr
DTSTART;TZID=Europe/Berlin:20200322T153000
DTEND;TZID=Europe/Berlin:20200322T173000
LOCATION:Alte Stadthalle
GEO:52.562000;13.094000
URL;VALUE=URI:https://criticalmass.in/falkensee/kidical-mass-falkensee-maer
 z-2020
END:VEVENT
END:VCALENDAR
