BEGIN:VCALENDAR
VERSION:2.0
PRODID:-//Sabre//Sabre VObject 4.5.8//EN
CALSCALE:GREGORIAN
BEGIN:VEVENT
UID:criticalmass-one-falkensee-1752246000
DTSTAMP:20260421T032130Z
SUMMARY:Critical Mass Falkensee 11.07.2025
DTSTART;TZID=Europe/Berlin:20250711T170000
DTEND;TZID=Europe/Berlin:20250711T190000
LOCATION:Vorplatz der alten Stadthalle
GEO:52.561886;13.091508
URL;VALUE=URI:https://criticalmass.in/falkensee/2025-07-11
END:VEVENT
END:VCALENDAR
