BEGIN:VCALENDAR
VERSION:2.0
PRODID:-//Sabre//Sabre VObject 4.5.8//EN
CALSCALE:GREGORIAN
BEGIN:VEVENT
UID:criticalmass-one-falkensee-1709913600
DTSTAMP:20260420T212643Z
SUMMARY:Critical Mass Falkensee 08.03.2024
DTSTART;TZID=Europe/Berlin:20240308T170000
DTEND;TZID=Europe/Berlin:20240308T190000
LOCATION:Vorplatz der alten Stadthalle
GEO:52.561886;13.091508
URL;VALUE=URI:https://criticalmass.in/falkensee/2024-03-08
END:VEVENT
END:VCALENDAR
