BEGIN:VCALENDAR
VERSION:2.0
PRODID:-//Sabre//Sabre VObject 4.5.8//EN
CALSCALE:GREGORIAN
BEGIN:VEVENT
UID:criticalmass-one-falkensee-1697209200
DTSTAMP:20260421T042633Z
SUMMARY:Critical Mass Falkensee 13.10.2023
DTSTART;TZID=Europe/Berlin:20231013T170000
DTEND;TZID=Europe/Berlin:20231013T190000
LOCATION:Vorplatz der alten Stadthalle
GEO:52.561886;13.091508
URL;VALUE=URI:https://criticalmass.in/falkensee/2023-10-13
END:VEVENT
END:VCALENDAR
