BEGIN:VCALENDAR
VERSION:2.0
PRODID:-//Sabre//Sabre VObject 4.5.8//EN
CALSCALE:GREGORIAN
BEGIN:VEVENT
UID:criticalmass-one-falkensee-1681484400
DTSTAMP:20260421T032111Z
SUMMARY:Critical Mass Falkensee 14.04.2023
DTSTART;TZID=Europe/Berlin:20230414T170000
DTEND;TZID=Europe/Berlin:20230414T190000
LOCATION:Vorplatz der alten Stadthalle
GEO:52.561886;13.091508
URL;VALUE=URI:https://criticalmass.in/falkensee/2023-04-14
END:VEVENT
END:VCALENDAR
