BEGIN:VCALENDAR
VERSION:2.0
PRODID:-//Sabre//Sabre VObject 4.5.8//EN
CALSCALE:GREGORIAN
BEGIN:VEVENT
UID:criticalmass-one-falkensee-1678464000
DTSTAMP:20260421T002205Z
SUMMARY:Critical Mass Falkensee 10.03.2023
DTSTART;TZID=Europe/Berlin:20230310T170000
DTEND;TZID=Europe/Berlin:20230310T190000
LOCATION:Vorplatz der alten Stadthalle
GEO:52.561886;13.091508
URL;VALUE=URI:https://criticalmass.in/falkensee/2023-03-10
END:VEVENT
END:VCALENDAR
