BEGIN:VCALENDAR
VERSION:2.0
PRODID:-//Sabre//Sabre VObject 4.5.8//EN
CALSCALE:GREGORIAN
BEGIN:VEVENT
UID:criticalmass-one-falkensee-1657292400
DTSTAMP:20260420T212853Z
SUMMARY:Critical Mass Falkensee 08.07.2022
DTSTART;TZID=Europe/Berlin:20220708T170000
DTEND;TZID=Europe/Berlin:20220708T190000
LOCATION:Vorplatz der alten Stadthalle
GEO:52.561886;13.091508
URL;VALUE=URI:https://criticalmass.in/falkensee/2022-07-08
END:VEVENT
END:VCALENDAR
