BEGIN:VCALENDAR
VERSION:2.0
PRODID:-//Sabre//Sabre VObject 4.5.8//EN
CALSCALE:GREGORIAN
BEGIN:VEVENT
UID:criticalmass-one-falkensee-1654873200
DTSTAMP:20260420T225247Z
SUMMARY:Critical Mass Falkensee 10.06.2022
DTSTART;TZID=Europe/Berlin:20220610T170000
DTEND;TZID=Europe/Berlin:20220610T190000
LOCATION:Vorplatz der alten Stadthalle
GEO:52.561886;13.091508
URL;VALUE=URI:https://criticalmass.in/falkensee/2022-06-10
END:VEVENT
END:VCALENDAR
