BEGIN:VCALENDAR
VERSION:2.0
PRODID:-//Sabre//Sabre VObject 4.5.8//EN
CALSCALE:GREGORIAN
BEGIN:VEVENT
UID:criticalmass-one-falkensee-1647014400
DTSTAMP:20260420T225351Z
SUMMARY:Critical Mass Falkensee 11.03.2022
DTSTART;TZID=Europe/Berlin:20220311T170000
DTEND;TZID=Europe/Berlin:20220311T190000
LOCATION:Vorplatz der alten Stadthalle
GEO:52.562473;13.094539
URL;VALUE=URI:https://criticalmass.in/falkensee/2022-03-11
END:VEVENT
END:VCALENDAR
