BEGIN:VCALENDAR
VERSION:2.0
PRODID:-//Sabre//Sabre VObject 4.5.8//EN
CALSCALE:GREGORIAN
BEGIN:VEVENT
UID:criticalmass-one-falkensee-1639152000
DTSTAMP:20260420T225226Z
SUMMARY:Critical Mass Falkensee 10.12.2021
DESCRIPTION:Von Weihnachtsbaum zu Weihnachtsbaum (Falkensee / Dallgow-Döbe
 ritz) mit Punsch-Pause in Dallgow-Döberitz.
DTSTART;TZID=Europe/Berlin:20211210T170000
DTEND;TZID=Europe/Berlin:20211210T190000
LOCATION:Vorplatz der alten Stadthalle
GEO:52.561886;13.091508
URL;VALUE=URI:https://criticalmass.in/falkensee/2021-12-10
END:VEVENT
END:VCALENDAR
