BEGIN:VCALENDAR
VERSION:2.0
PRODID:-//Sabre//Sabre VObject 4.5.8//EN
CALSCALE:GREGORIAN
BEGIN:VEVENT
UID:criticalmass-one-falkensee-1631286000
DTSTAMP:20260421T001401Z
SUMMARY:Critical Mass Falkensee 10.09.2021
DTSTART;TZID=Europe/Berlin:20210910T170000
DTEND;TZID=Europe/Berlin:20210910T190000
LOCATION:Vorplatz der alten Stadthalle
GEO:52.561886;13.091508
URL;VALUE=URI:https://criticalmass.in/falkensee/2021-09-10
END:VEVENT
END:VCALENDAR
