BEGIN:VCALENDAR
VERSION:2.0
PRODID:-//Sabre//Sabre VObject 4.5.8//EN
CALSCALE:GREGORIAN
BEGIN:VEVENT
UID:criticalmass-one-falkensee-1628866800
DTSTAMP:20260421T032122Z
SUMMARY:Critical Mass Falkensee 13.08.2021
DTSTART;TZID=Europe/Berlin:20210813T170000
DTEND;TZID=Europe/Berlin:20210813T190000
LOCATION:Vorplatz der alten Stadthalle
GEO:52.561886;13.091508
URL;VALUE=URI:https://criticalmass.in/falkensee/2021-08-13
END:VEVENT
END:VCALENDAR
