BEGIN:VCALENDAR
VERSION:2.0
PRODID:-//Sabre//Sabre VObject 4.5.8//EN
CALSCALE:GREGORIAN
BEGIN:VEVENT
UID:criticalmass-one-falkensee-1625842800
DTSTAMP:20260421T032205Z
SUMMARY:Critical Mass Falkensee 09.07.2021
DTSTART;TZID=Europe/Berlin:20210709T170000
DTEND;TZID=Europe/Berlin:20210709T190000
LOCATION:Vorplatz der alten Stadthalle
GEO:52.561886;13.091508
URL;VALUE=URI:https://criticalmass.in/falkensee/2021-07-09
END:VEVENT
END:VCALENDAR
