BEGIN:VCALENDAR
VERSION:2.0
PRODID:-//Sabre//Sabre VObject 4.5.8//EN
CALSCALE:GREGORIAN
BEGIN:VEVENT
UID:criticalmass-one-falkensee-1610121600
DTSTAMP:20260420T200445Z
SUMMARY:Critical Mass Falkensee 08.01.2021
DTSTART;TZID=Europe/Berlin:20210108T170000
DTEND;TZID=Europe/Berlin:20210108T190000
LOCATION:Vorplatz der alten Stadthalle
GEO:52.561886;13.091508
URL;VALUE=URI:https://criticalmass.in/falkensee/2021-01-08
END:VEVENT
END:VCALENDAR
